BEGIN:VCALENDAR
VERSION:2.0
PRODID:-//Züri Pond Hockey - ECPv6.15.20//NONSGML v1.0//EN
CALSCALE:GREGORIAN
METHOD:PUBLISH
X-WR-CALNAME:Züri Pond Hockey
X-ORIGINAL-URL:https://www.xn--zriph-kva.ch
X-WR-CALDESC:Veranstaltungen für Züri Pond Hockey
REFRESH-INTERVAL;VALUE=DURATION:PT1H
X-Robots-Tag:noindex
X-PUBLISHED-TTL:PT1H
BEGIN:VTIMEZONE
TZID:Europe/Zurich
BEGIN:DAYLIGHT
TZOFFSETFROM:+0100
TZOFFSETTO:+0200
TZNAME:CEST
DTSTART:20250330T010000
END:DAYLIGHT
BEGIN:STANDARD
TZOFFSETFROM:+0200
TZOFFSETTO:+0100
TZNAME:CET
DTSTART:20251026T010000
END:STANDARD
BEGIN:DAYLIGHT
TZOFFSETFROM:+0100
TZOFFSETTO:+0200
TZNAME:CEST
DTSTART:20260329T010000
END:DAYLIGHT
BEGIN:STANDARD
TZOFFSETFROM:+0200
TZOFFSETTO:+0100
TZNAME:CET
DTSTART:20261025T010000
END:STANDARD
BEGIN:DAYLIGHT
TZOFFSETFROM:+0100
TZOFFSETTO:+0200
TZNAME:CEST
DTSTART:20270328T010000
END:DAYLIGHT
BEGIN:STANDARD
TZOFFSETFROM:+0200
TZOFFSETTO:+0100
TZNAME:CET
DTSTART:20271031T010000
END:STANDARD
END:VTIMEZONE
BEGIN:VEVENT
DTSTART;TZID=Europe/Zurich:20260426T181500
DTEND;TZID=Europe/Zurich:20260426T201500
DTSTAMP:20260421T061945
CREATED:20260202T093541Z
LAST-MODIFIED:20260202T093541Z
UID:571-1777227300-1777234500@www.xn--zriph-kva.ch
SUMMARY:Eiszeit
DESCRIPTION:Die Zeiten sind Eiszeiten\, also auf dem Eis. Garderobe ist 30′ zuvor und danach offen
URL:https://www.xn--zriph-kva.ch/?tribe_events=eiszeit-12
LOCATION:Kunsteisbahn Oerlikon\, Siewerdtstrasse 80\, Oerlikon\, Zürich\, 8050
END:VEVENT
BEGIN:VEVENT
DTSTART;TZID=Europe/Zurich:20260503T181500
DTEND;TZID=Europe/Zurich:20260503T201500
DTSTAMP:20260421T061945
CREATED:20260202T094030Z
LAST-MODIFIED:20260202T094030Z
UID:573-1777832100-1777839300@www.xn--zriph-kva.ch
SUMMARY:Eiszeit
DESCRIPTION:Die Zeiten sind Eiszeiten\, also auf dem Eis. Garderobe ist 30′ zuvor und danach offen
URL:https://www.xn--zriph-kva.ch/?tribe_events=eiszeit-13
LOCATION:Kunsteisbahn Oerlikon\, Siewerdtstrasse 80\, Oerlikon\, Zürich\, 8050
END:VEVENT
BEGIN:VEVENT
DTSTART;TZID=Europe/Zurich:20260510T181500
DTEND;TZID=Europe/Zurich:20260510T201500
DTSTAMP:20260421T061945
CREATED:20260202T094207Z
LAST-MODIFIED:20260202T094207Z
UID:575-1778436900-1778444100@www.xn--zriph-kva.ch
SUMMARY:Eiszeit
DESCRIPTION:Die Zeiten sind Eiszeiten\, also auf dem Eis. Garderobe ist 30′ zuvor und danach offen
URL:https://www.xn--zriph-kva.ch/?tribe_events=eiszeit-14
LOCATION:Kunsteisbahn Oerlikon\, Siewerdtstrasse 80\, Oerlikon\, Zürich\, 8050
END:VEVENT
BEGIN:VEVENT
DTSTART;TZID=Europe/Zurich:20260524T181500
DTEND;TZID=Europe/Zurich:20260524T201500
DTSTAMP:20260421T061945
CREATED:20260202T094258Z
LAST-MODIFIED:20260202T094258Z
UID:577-1779646500-1779653700@www.xn--zriph-kva.ch
SUMMARY:Eiszeit
DESCRIPTION:Die Zeiten sind Eiszeiten\, also auf dem Eis. Garderobe ist 30′ zuvor und danach offen
URL:https://www.xn--zriph-kva.ch/?tribe_events=eiszeit-15
LOCATION:Kunsteisbahn Oerlikon\, Siewerdtstrasse 80\, Oerlikon\, Zürich\, 8050
END:VEVENT
BEGIN:VEVENT
DTSTART;TZID=Europe/Zurich:20260531T181500
DTEND;TZID=Europe/Zurich:20260531T201500
DTSTAMP:20260421T061945
CREATED:20260202T094344Z
LAST-MODIFIED:20260202T094344Z
UID:579-1780251300-1780258500@www.xn--zriph-kva.ch
SUMMARY:Eiszeit
DESCRIPTION:Die Zeiten sind Eiszeiten\, also auf dem Eis. Garderobe ist 30′ zuvor und danach offen
URL:https://www.xn--zriph-kva.ch/?tribe_events=eiszeit-16
LOCATION:Kunsteisbahn Oerlikon\, Siewerdtstrasse 80\, Oerlikon\, Zürich\, 8050
END:VEVENT
END:VCALENDAR